BEGIN:VCALENDAR
VERSION:2.0
PRODID:-//St. Mary of the Rockies Knights of Columbus #15956 - ECPv6.15.20//NONSGML v1.0//EN
CALSCALE:GREGORIAN
METHOD:PUBLISH
X-WR-CALNAME:St. Mary of the Rockies Knights of Columbus #15956
X-ORIGINAL-URL:https://smrkc.org
X-WR-CALDESC:Events for St. Mary of the Rockies Knights of Columbus #15956
REFRESH-INTERVAL;VALUE=DURATION:PT1H
X-Robots-Tag:noindex
X-PUBLISHED-TTL:PT1H
BEGIN:VTIMEZONE
TZID:America/Denver
BEGIN:DAYLIGHT
TZOFFSETFROM:-0700
TZOFFSETTO:-0600
TZNAME:MDT
DTSTART:20240310T090000
END:DAYLIGHT
BEGIN:STANDARD
TZOFFSETFROM:-0600
TZOFFSETTO:-0700
TZNAME:MST
DTSTART:20241103T080000
END:STANDARD
BEGIN:DAYLIGHT
TZOFFSETFROM:-0700
TZOFFSETTO:-0600
TZNAME:MDT
DTSTART:20250309T090000
END:DAYLIGHT
BEGIN:STANDARD
TZOFFSETFROM:-0600
TZOFFSETTO:-0700
TZNAME:MST
DTSTART:20251102T080000
END:STANDARD
BEGIN:DAYLIGHT
TZOFFSETFROM:-0700
TZOFFSETTO:-0600
TZNAME:MDT
DTSTART:20260308T090000
END:DAYLIGHT
BEGIN:STANDARD
TZOFFSETFROM:-0600
TZOFFSETTO:-0700
TZNAME:MST
DTSTART:20261101T080000
END:STANDARD
END:VTIMEZONE
BEGIN:VTIMEZONE
TZID:America/Denver
BEGIN:DAYLIGHT
TZOFFSETFROM:-0700
TZOFFSETTO:-0600
TZNAME:MDT
DTSTART:20240310T090000
END:DAYLIGHT
BEGIN:STANDARD
TZOFFSETFROM:-0600
TZOFFSETTO:-0700
TZNAME:MST
DTSTART:20241103T080000
END:STANDARD
BEGIN:DAYLIGHT
TZOFFSETFROM:-0700
TZOFFSETTO:-0600
TZNAME:MDT
DTSTART:20250309T090000
END:DAYLIGHT
BEGIN:STANDARD
TZOFFSETFROM:-0600
TZOFFSETTO:-0700
TZNAME:MST
DTSTART:20251102T080000
END:STANDARD
BEGIN:DAYLIGHT
TZOFFSETFROM:-0700
TZOFFSETTO:-0600
TZNAME:MDT
DTSTART:20260308T090000
END:DAYLIGHT
BEGIN:STANDARD
TZOFFSETFROM:-0600
TZOFFSETTO:-0700
TZNAME:MST
DTSTART:20261101T080000
END:STANDARD
END:VTIMEZONE
BEGIN:VEVENT
DTSTART;TZID=America/Denver:20250611T180000
DTEND;TZID=America/Denver:20250611T193000
DTSTAMP:20260423T111042
CREATED:20250606T180529Z
LAST-MODIFIED:20250606T180641Z
UID:246-1749664800-1749670200@smrkc.org
SUMMARY:Member Meeting
DESCRIPTION:Social time from 6 pm until 6:30 pm.  Meeting begins at 6:30 pm.
URL:https://smrkc.org/event/member-meeting-3/
END:VEVENT
BEGIN:VEVENT
DTSTART;TZID=America/Denver:20250514T180000
DTEND;TZID=America/Denver:20250514T180000
DTSTAMP:20260423T111042
CREATED:20250401T201616Z
LAST-MODIFIED:20250514T210719Z
UID:180-1747245600-1747245600@smrkc.org
SUMMARY:Member Meeting
DESCRIPTION:
URL:https://smrkc.org/event/member-meeting-2/
LOCATION:St. Mary of the Rockies Catholic Church Basement\, 236 Bulldogger Road\, Bailey\, CO\, 80421\, United States
END:VEVENT
BEGIN:VEVENT
DTSTART;TZID=America/Denver:20250503T170000
DTEND;TZID=America/Denver:20250503T200000
DTSTAMP:20260423T111042
CREATED:20250405T163106Z
LAST-MODIFIED:20250405T163106Z
UID:185-1746291600-1746302400@smrkc.org
SUMMARY:Cinco de Mayo Dinner Celebration
DESCRIPTION:after 4 pm Mass
URL:https://smrkc.org/event/cinco-de-mayo-dinner-celebration/
LOCATION:St. Mary of the Rockies Catholic Church Basement\, 236 Bulldogger Road\, Bailey\, CO\, 80421\, United States
END:VEVENT
BEGIN:VEVENT
DTSTART;TZID=America/Denver:20250427T100000
DTEND;TZID=America/Denver:20250427T110000
DTSTAMP:20260423T111042
CREATED:20250401T201731Z
LAST-MODIFIED:20250401T201840Z
UID:182-1745748000-1745751600@smrkc.org
SUMMARY:SMRKC Breakfast at St. Mary of the Rockies
DESCRIPTION:
URL:https://smrkc.org/event/smrkc-breakfast-at-st-mary-of-the-rockies/
LOCATION:St. Mary of the Rockies Catholic Church Basement\, 236 Bulldogger Road\, Bailey\, CO\, 80421\, United States
END:VEVENT
BEGIN:VEVENT
DTSTART;TZID=America/Denver:20250425T180000
DTEND;TZID=America/Denver:20250427T120000
DTSTAMP:20260423T111042
CREATED:20250405T163835Z
LAST-MODIFIED:20250405T163835Z
UID:190-1745604000-1745755200@smrkc.org
SUMMARY:Colorado K of C State Convention
DESCRIPTION:
URL:https://smrkc.org/event/colorado-k-of-c-state-convention/
LOCATION:Antlers Hotel\, 4 South Cascade Ave\, Colorado Springs\, CO\, 80903\, United States
END:VEVENT
BEGIN:VEVENT
DTSTART;TZID=America/Denver:20250424T090000
DTEND;TZID=America/Denver:20250424T100000
DTSTAMP:20260423T111042
CREATED:20250405T163502Z
LAST-MODIFIED:20250405T163502Z
UID:187-1745485200-1745488800@smrkc.org
SUMMARY:April Holy Hour after Morning Mass
DESCRIPTION:
URL:https://smrkc.org/event/april-holy-hour-after-morning-mass/
LOCATION:St. Mary of the Rockies Catholic Church\, 236 Bulldogger Road\, Bailey\, CO\, 80421\, United States
END:VEVENT
BEGIN:VEVENT
DTSTART;TZID=America/Denver:20250411T170000
DTEND;TZID=America/Denver:20250411T190000
DTSTAMP:20260423T111042
CREATED:20250306T015655Z
LAST-MODIFIED:20250306T192924Z
UID:149-1744390800-1744398000@smrkc.org
SUMMARY:Lenten Fish Fry
DESCRIPTION:$17 for adults\, $8 for 12 and under.  There is no charge for 5 and under and free macaroni and cheese will be available for them.
URL:https://smrkc.org/event/lenten-fish-fry-5/
LOCATION:St. Mary of the Rockies Catholic Church Basement\, 236 Bulldogger Road\, Bailey\, CO\, 80421\, United States
END:VEVENT
BEGIN:VEVENT
DTSTART;TZID=America/Denver:20250404T170000
DTEND;TZID=America/Denver:20250404T190000
DTSTAMP:20260423T111042
CREATED:20250306T015622Z
LAST-MODIFIED:20250306T192909Z
UID:147-1743786000-1743793200@smrkc.org
SUMMARY:Lenten Fish Fry
DESCRIPTION:$17 for adults\, $8 for 12 and under.  There is no charge for 5 and under and free macaroni and cheese will be available for them.
URL:https://smrkc.org/event/lenten-fish-fry-4/
LOCATION:St. Mary of the Rockies Catholic Church Basement\, 236 Bulldogger Road\, Bailey\, CO\, 80421\, United States
END:VEVENT
BEGIN:VEVENT
DTSTART;TZID=America/Denver:20250402T180000
DTEND;TZID=America/Denver:20250402T193000
DTSTAMP:20260423T111042
CREATED:20250401T201531Z
LAST-MODIFIED:20250401T201531Z
UID:178-1743616800-1743622200@smrkc.org
SUMMARY:Member Meeting
DESCRIPTION:
URL:https://smrkc.org/event/member-meeting/
LOCATION:St. Mary of the Rockies Catholic Church Basement\, 236 Bulldogger Road\, Bailey\, CO\, 80421\, United States
END:VEVENT
BEGIN:VEVENT
DTSTART;TZID=America/Denver:20250328T170000
DTEND;TZID=America/Denver:20250328T190000
DTSTAMP:20260423T111042
CREATED:20250306T015544Z
LAST-MODIFIED:20250306T192856Z
UID:145-1743181200-1743188400@smrkc.org
SUMMARY:Lenten Fish Fry
DESCRIPTION:$17 for adults\, $8 for 12 and under.  There is no charge for 5 and under and free macaroni and cheese will be available for them.
URL:https://smrkc.org/event/lenten-fish-fry-3/
LOCATION:St. Mary of the Rockies Catholic Church Basement\, 236 Bulldogger Road\, Bailey\, CO\, 80421\, United States
END:VEVENT
BEGIN:VEVENT
DTSTART;TZID=America/Denver:20250321T170000
DTEND;TZID=America/Denver:20250321T190000
DTSTAMP:20260423T111042
CREATED:20250306T015511Z
LAST-MODIFIED:20250306T192840Z
UID:143-1742576400-1742583600@smrkc.org
SUMMARY:Lenten Fish Fry
DESCRIPTION:$17 for adults\, $8 for 12 and under.  There is no charge for 5 and under and free macaroni and cheese will be available for them.
URL:https://smrkc.org/event/lenten-fish-fry-2/
LOCATION:St. Mary of the Rockies Catholic Church Basement\, 236 Bulldogger Road\, Bailey\, CO\, 80421\, United States
END:VEVENT
BEGIN:VEVENT
DTSTART;TZID=America/Denver:20250314T170000
DTEND;TZID=America/Denver:20250314T190000
DTSTAMP:20260423T111042
CREATED:20250306T015350Z
LAST-MODIFIED:20250306T192824Z
UID:140-1741971600-1741978800@smrkc.org
SUMMARY:Lenten Fish Fry
DESCRIPTION:$17 for adults\, $8 for 12 and under.  There is no charge for 5 and under and free macaroni and cheese will be available for them.
URL:https://smrkc.org/event/lenten-fish-fry/
LOCATION:St. Mary of the Rockies Catholic Church Basement\, 236 Bulldogger Road\, Bailey\, CO\, 80421\, United States
END:VEVENT
BEGIN:VEVENT
DTSTART;TZID=America/Denver:20250307T170000
DTEND;TZID=America/Denver:20250307T190000
DTSTAMP:20260423T111042
CREATED:20250306T030635Z
LAST-MODIFIED:20250306T192804Z
UID:131-1741366800-1741374000@smrkc.org
SUMMARY:Lenten Fish Fry
DESCRIPTION:$17 for adults\, $8 for 12 and under.  There is no charge for 5 and under and free macaroni and cheese will be available for them.
URL:https://smrkc.org/event/fish-fry/
LOCATION:St. Mary of the Rockies Catholic Church Basement\, 236 Bulldogger Road\, Bailey\, CO\, 80421\, United States
END:VEVENT
END:VCALENDAR